Workbook

Sheet エントリー用紙
A2: 第80回 八重山地区中学校バレーボール選手権大会
A4: エントリー用紙
A6: 令和 | D6: 年 | F6: 月 | H6: 日
A7: チーム名 | E7: （ | K7: ） | L7: 中学校 | P7: （ | Q7: 男 ・ 女 | U7: ）
A9: 監督 | L9: (主審・副審・不可)いずれかに○
A10: コーチ | L10: (主審・副審・不可)いずれかに○
A11: 帯同審判 | L11: (主審・副審)いずれかに○
A12: マネージャー | L12: ＩＦ記録員
A14: 選 手 名 | I14: 番号 | J14: 学年 | K14: 身 長 | N14: 最高到達点 | Q14: JVA-ID | U14: チェック
A30: ※ エントリー用紙は代表者会議時に提出すること。 | Q30: 変更のある選手のみ記入する
A31: ※ 番号の小さい順に記入すること。
A32: ※ 主将は、番号に○印をつけること。
A33: ※ 変更ある選手のみ JVA-IDを記入すること。
A34: ※ ＩＦオーダー用紙は大会当日、開会式前までに提出すること。

Sheet IFオーダー用紙
C1: =G2 -> 0 | G1: 男 子 ・ 女 子
B2: 番号 | C2: 氏 名 | G2: =エントリー用紙!F7 -> 0
B3: =エントリー用紙!I15 -> 0 | C3: =エントリー用紙!A15 -> 0
B4: =エントリー用紙!I16 -> 0 | C4: =エントリー用紙!A16 -> 0
B5: =エントリー用紙!I17 -> 0 | C5: =エントリー用紙!A17 -> 0 | G5: オーダー用紙
B6: =エントリー用紙!I18 -> 0 | C6: =エントリー用紙!A18 -> 0
B7: =エントリー用紙!I19 -> 0 | C7: =エントリー用紙!A19 -> 0
B8: =エントリー用紙!I20 -> 0 | C8: =エントリー用紙!A20 -> 0
B9: =エントリー用紙!I21 -> 0 | C9: =エントリー用紙!A21 -> 0
B10: =エントリー用紙!I22 -> 0 | C10: =エントリー用紙!A22 -> 0
B11: =エントリー用紙!I23 -> 0 | C11: =エントリー用紙!A23 -> 0
B12: =エントリー用紙!I24 -> 0 | C12: =エントリー用紙!A24 -> 0
B13: =エントリー用紙!I25 -> 0 | C13: =エントリー用紙!A25 -> 0
B14: =エントリー用紙!I26 -> 0 | C14: =エントリー用紙!A26 -> 0
B15: =エントリー用紙!I27 -> 0 | C15: =エントリー用紙!A27 -> 0
B16: =エントリー用紙!I28 -> 0 | C16: =エントリー用紙!A28 -> 0
C18: =G2 -> 0 | G18: =G2 -> 0 | K18: =G2 -> 0 | O18: =G2 -> 0
B19: 番号 | C19: 氏 名 | F19: 番号 | G19: 氏 名 | J19: 番号 | K19: 氏 名 | N19: 番号 | O19: 氏 名
B20: =B3 -> 0 | C20: =C3 -> 0 | F20: =B3 -> 0 | G20: =C3 -> 0 | J20: =B3 -> 0 | K20: =C3 -> 0 | N20: =B3 -> 0 | O20: =C3 -> 0
B21: =B4 -> 0 | C21: =C4 -> 0 | F21: =B4 -> 0 | G21: =C4 -> 0 | J21: =B4 -> 0 | K21: =C4 -> 0 | N21: =B4 -> 0 | O21: =C4 -> 0
B22: =B5 -> 0 | C22: =C5 -> 0 | F22: =B5 -> 0 | G22: =C5 -> 0 | J22: =B5 -> 0 | K22: =C5 -> 0 | N22: =B5 -> 0 | O22: =C5 -> 0
B23: =B6 -> 0 | C23: =C6 -> 0 | F23: =B6 -> 0 | G23: =C6 -> 0 | J23: =B6 -> 0 | K23: =C6 -> 0 | N23: =B6 -> 0 | O23: =C6 -> 0
B24: =B7 -> 0 | C24: =C7 -> 0 | F24: =B7 -> 0 | G24: =C7 -> 0 | J24: =B7 -> 0 | K24: =C7 -> 0 | N24: =B7 -> 0 | O24: =C7 -> 0
B25: =B8 -> 0 | C25: =C8 -> 0 | F25: =B8 -> 0 | G25: =C8 -> 0 | J25: =B8 -> 0 | K25: =C8 -> 0 | N25: =B8 -> 0 | O25: =C8 -> 0
B26: =B9 -> 0 | C26: =C9 -> 0 | F26: =B9 -> 0 | G26: =C9 -> 0 | J26: =B9 -> 0 | K26: =C9 -> 0 | N26: =B9 -> 0 | O26: =C9 -> 0
B27: =B10 -> 0 | C27: =C10 -> 0 | F27: =B10 -> 0 | G27: =C10 -> 0 | J27: =B10 -> 0 | K27: =C10 -> 0 | N27: =B10 -> 0 | O27: =C10 -> 0
B28: =B11 -> 0 | C28: =C11 -> 0 | F28: =B11 -> 0 | G28: =C11 -> 0 | J28: =B11 -> 0 | K28: =C11 -> 0 | N28: =B11 -> 0 | O28: =C11 -> 0
B29: =B12 -> 0 | C29: =C12 -> 0 | F29: =B12 -> 0 | G29: =C12 -> 0 | J29: =B12 -> 0 | K29: =C12 -> 0 | N29: =B12 -> 0 | O29: =C12 -> 0
B30: =B13 -> 0 | C30: =C13 -> 0 | F30: =B13 -> 0 | G30: =C13 -> 0 | J30: =B13 -> 0 | K30: =C13 -> 0 | N30: =B13 -> 0 | O30: =C13 -> 0
B31: =B14 -> 0 | C31: =C14 -> 0 | F31: =B14 -> 0 | G31: =C14 -> 0 | J31: =B14 -> 0 | K31: =C14 -> 0 | N31: =B14 -> 0 | O31: =C14 -> 0
... B33: =B16 -> 0 | C33: =C16 -> 0 | F33: =B16 -> 0 | G33: =C16 -> 0 | J33: =B16 -> 0 | K33: =C16 -> 0 | N33: =B16 -> 0 | O33: =C16 -> 0
C35: =G2 -> 0 | G35: =G2 -> 0 | K35: =G2 -> 0 | O35: =G2 -> 0
B36: 番号 | C36: 氏 名 | F36: 番号 | G36: 氏 名 | J36: 番号 | K36: 氏 名 | N36: 番号 | O36: 氏 名
B37: =B20 -> 0 | C37: =C20 -> 0 | F37: =B20 -> 0 | G37: =C20 -> 0 | J37: =B20 -> 0 | K37: =C20 -> 0 | N37: =F20 -> 0 | O37: =C3 -> 0
B38: =B21 -> 0 | C38: =C21 -> 0 | F38: =B21 -> 0 | G38: =C21 -> 0 | J38: =B21 -> 0 | K38: =C21 -> 0 | N38: =F21 -> 0 | O38: =C4 -> 0
B39: =B22 -> 0 | C39: =C22 -> 0 | F39: =B22 -> 0 | G39: =C22 -> 0 | J39: =B22 -> 0 | K39: =C22 -> 0 | N39: =F22 -> 0 | O39: =C5 -> 0
B40: =B23 -> 0 | C40: =C23 -> 0 | F40: =B23 -> 0 | G40: =C23 -> 0 | J40: =B23 -> 0 | K40: =C23 -> 0 | N40: =F23 -> 0 | O40: =C6 -> 0
B41: =B24 -> 0 | C41: =C24 -> 0 | F41: =B24 -> 0 | G41: =C24 -> 0 | J41: =B24 -> 0 | K41: =C24 -> 0 | N41: =F24 -> 0 | O41: =C7 -> 0
B42: =B25 -> 0 | C42: =C25 -> 0 | F42: =B25 -> 0 | G42: =C25 -> 0 | J42: =B25 -> 0 | K42: =C25 -> 0 | N42: =F25 -> 0 | O42: =C8 -> 0
B43: =B26 -> 0 | C43: =C26 -> 0 | F43: =B26 -> 0 | G43: =C26 -> 0 | J43: =B26 -> 0 | K43: =C26 -> 0 | N43: =F26 -> 0 | O43: =C9 -> 0
B44: =B27 -> 0 | C44: =C27 -> 0 | F44: =B27 -> 0 | G44: =C27 -> 0 | J44: =B27 -> 0 | K44: =C27 -> 0 | N44: =F27 -> 0 | O44: =C10 -> 0
B45: =B28 -> 0 | C45: =C28 -> 0 | F45: =B28 -> 0 | G45: =C28 -> 0 | J45: =B28 -> 0 | K45: =C28 -> 0 | N45: =F28 -> 0 | O45: =C11 -> 0
B46: =B29 -> 0 | C46: =C29 -> 0 | F46: =B29 -> 0 | G46: =C29 -> 0 | J46: =B29 -> 0 | K46: =C29 -> 0 | N46: =F29 -> 0 | O46: =C12 -> 0
B47: =B30 -> 0 | C47: =C30 -> 0 | F47: =B30 -> 0 | G47: =C30 -> 0 | J47: =B30 -> 0 | K47: =C30 -> 0 | N47: =F30 -> 0 | O47: =C13 -> 0
B48: =B31 -> 0 | C48: =C31 -> 0 | F48: =B31 -> 0 | G48: =C31 -> 0 | J48: =B31 -> 0 | K48: =C31 -> 0 | N48: =F31 -> 0 | O48: =C14 -> 0
... B50: =B33 -> 0 | C50: =C33 -> 0 | F50: =B33 -> 0 | G50: =C33 -> 0 | J50: =B33 -> 0 | K50: =C33 -> 0 | N50: =F33 -> 0 | O50: =C16 -> 0
B52: ※ 切り取らず、A4サイズでエントリ-用紙と一緒に提出お願いします。
